BEGIN:VCALENDAR
VERSION:2.0
PRODID:-//FizzAid - 128, Triq Tabib Nikol Zammit, Siggiewi. VAT: MT21508536 - ECPv6.15.20//NONSGML v1.0//EN
CALSCALE:GREGORIAN
METHOD:PUBLISH
X-ORIGINAL-URL:https://fizzaid.com
X-WR-CALDESC:Events for FizzAid - 128, Triq Tabib Nikol Zammit, Siggiewi. VAT: MT21508536
REFRESH-INTERVAL;VALUE=DURATION:PT1H
X-Robots-Tag:noindex
X-PUBLISHED-TTL:PT1H
BEGIN:VTIMEZONE
TZID:UTC
BEGIN:STANDARD
TZOFFSETFROM:+0000
TZOFFSETTO:+0000
TZNAME:UTC
DTSTART:20240101T000000
END:STANDARD
END:VTIMEZONE
BEGIN:VEVENT
DTSTART;VALUE=DATE:20250105
DTEND;VALUE=DATE:20250106
DTSTAMP:20260425T155248
CREATED:20241229T111753Z
LAST-MODIFIED:20241229T111753Z
UID:2990-1736035200-1736121599@fizzaid.com
SUMMARY:Delivery to Northern Areas from 8am to 12noon
DESCRIPTION:Delivery to Northern Area locations
URL:https://fizzaid.com/delivery/delivery-to-northern-areas-from-8am-to-12noon/
LOCATION:Malta Southern Areas\, Southern Areas
END:VEVENT
END:VCALENDAR