BEGIN:VCALENDAR
VERSION:2.0
PRODID:-//FizzAid - 128, Triq Tabib Nikol Zammit, Siggiewi. VAT: MT21508536 - ECPv6.15.20//NONSGML v1.0//EN
CALSCALE:GREGORIAN
METHOD:PUBLISH
X-ORIGINAL-URL:https://fizzaid.com
X-WR-CALDESC:Events for FizzAid - 128, Triq Tabib Nikol Zammit, Siggiewi. VAT: MT21508536
REFRESH-INTERVAL;VALUE=DURATION:PT1H
X-Robots-Tag:noindex
X-PUBLISHED-TTL:PT1H
BEGIN:VTIMEZONE
TZID:UTC
BEGIN:STANDARD
TZOFFSETFROM:+0000
TZOFFSETTO:+0000
TZNAME:UTC
DTSTART:20240101T000000
END:STANDARD
END:VTIMEZONE
BEGIN:VEVENT
DTSTART;VALUE=DATE:20250223
DTEND;VALUE=DATE:20250224
DTSTAMP:20260425T142759
CREATED:20250204T085459Z
LAST-MODIFIED:20250204T085459Z
UID:3213-1740268800-1740355199@fizzaid.com
SUMMARY:Delivery to Southern Areas from 8am to 12noon
DESCRIPTION:Delivery to Southern locations
URL:https://fizzaid.com/delivery/delivery-to-southern-areas-from-8am-to-12noon-3/
END:VEVENT
END:VCALENDAR