BEGIN:VCALENDAR
VERSION:2.0
PRODID:-//FizzAid - 128, Triq Tabib Nikol Zammit, Siggiewi. VAT: MT21508536 - ECPv6.15.20//NONSGML v1.0//EN
CALSCALE:GREGORIAN
METHOD:PUBLISH
X-WR-CALNAME:FizzAid - 128, Triq Tabib Nikol Zammit, Siggiewi. VAT: MT21508536
X-ORIGINAL-URL:https://fizzaid.com
X-WR-CALDESC:Events for FizzAid - 128, Triq Tabib Nikol Zammit, Siggiewi. VAT: MT21508536
REFRESH-INTERVAL;VALUE=DURATION:PT1H
X-Robots-Tag:noindex
X-PUBLISHED-TTL:PT1H
BEGIN:VTIMEZONE
TZID:UTC
BEGIN:STANDARD
TZOFFSETFROM:+0000
TZOFFSETTO:+0000
TZNAME:UTC
DTSTART:20240101T000000
END:STANDARD
END:VTIMEZONE
BEGIN:VEVENT
DTSTART;VALUE=DATE:20250202
DTEND;VALUE=DATE:20250203
DTSTAMP:20260425T125735
CREATED:20250121T085719Z
LAST-MODIFIED:20250121T085719Z
UID:3150-1738454400-1738540799@fizzaid.com
SUMMARY:Delivery to Northern Areas from 8am to 12noon
DESCRIPTION:Delivery to Northern Area locations
URL:https://fizzaid.com/delivery/delivery-to-northern-areas-from-8am-to-12noon-3/
LOCATION:Malta Southern Areas\, Southern Areas
END:VEVENT
BEGIN:VEVENT
DTSTART;VALUE=DATE:20250207
DTEND;VALUE=DATE:20250212
DTSTAMP:20260425T125735
CREATED:20250117T080635Z
LAST-MODIFIED:20250117T080635Z
UID:3126-1738886400-1739318399@fizzaid.com
SUMMARY:Closed/No Deliveries
DESCRIPTION:We will be closed and no deliveries will be placed. Deliveries of that weekend will be done during the previous and following week.
URL:https://fizzaid.com/delivery/closed-no-deliveries/
END:VEVENT
BEGIN:VEVENT
DTSTART;VALUE=DATE:20250214
DTEND;VALUE=DATE:20250215
DTSTAMP:20260425T125735
CREATED:20250204T085835Z
LAST-MODIFIED:20250204T085835Z
UID:3226-1739491200-1739577599@fizzaid.com
SUMMARY:Delivery to Central Area 4.30pm-7.15pm
DESCRIPTION:Delivery to central area locations
URL:https://fizzaid.com/delivery/delivery-to-central-area-4-30pm-7-15pm-6/
END:VEVENT
BEGIN:VEVENT
DTSTART;VALUE=DATE:20250216
DTEND;VALUE=DATE:20250217
DTSTAMP:20260425T125735
CREATED:20250204T085718Z
LAST-MODIFIED:20250204T085718Z
UID:3223-1739664000-1739750399@fizzaid.com
SUMMARY:Delivery to Northern Areas from 8am to 12noon
DESCRIPTION:Delivery to Northern Area locations
URL:https://fizzaid.com/delivery/delivery-to-northern-areas-from-8am-to-12noon-4/
END:VEVENT
BEGIN:VEVENT
DTSTART;VALUE=DATE:20250221
DTEND;VALUE=DATE:20250222
DTSTAMP:20260425T125735
CREATED:20250204T095836Z
LAST-MODIFIED:20250204T095836Z
UID:3250-1740096000-1740182399@fizzaid.com
SUMMARY:Delivery to Central Area 4.30pm-7.15pm
DESCRIPTION:  \nCentral Area Free Friday Delivery Service 16:30 – 19:00 for Sodastream Malta Soda Stream Malta Drinkmate Malta\nAt FizzAid\, we’re passionate about providing you with everything you need to create refreshing\, homemade soda right at home. Whether you’re looking for SodaStream Malta or any other brand of CO2 refills\, spare bottles\, accessories\, or a variety of soda syrups\, we’ve got you covered. Our mission is to make soda-making easy\, convenient\, and enjoyable for everyone. \nTo make your experience even better\, we offer a free delivery service every Friday to the central area of Malta\, ensuring that you have all your essential soda-making supplies without ever having to leave the house. \nDelivery Areas – Central Malta \nOur Delivery of  Soda Stream Malta / Drinkmate Malta products covers the central area of Malta\, including the following areas: \n\nValletta\nFloriana\nSliema\nGzira\nTa’ Xbiex\nSt Julians\nSwieqi\nPembroke\nBirkirkara\nHamrun\nMsida\nMosta\nSan Gwann\nLija\nBalzan\nAttard\nMdina\nRabat\nQormi\nSanta Venera\n\nNo matter where you’re located in these areas\, we’ll bring your FizzAid order to your doorstep on Fridays\, completely free of charge*. \nWhat We Deliver\nAt FizzAid\, we pride ourselves on offering a wide range of products to meet all your soda-making needs. Our delivery service includes: \n\nCO2 Refills – We provide CO2 refills for SodaStream Malta Drinkmate Malta and all other soda makers brands and models. Whether you’re running low on CO2 or need a top-up\, we’ve got you covered. With our free delivery service\, you can enjoy the convenience of fresh bubbles in your drinks\, without the hassle.\nSpare Bottles & Accessories – We offer spare bottles\, including official Soda Stream Malta and Drinkmate Malta bottles and accessories for all brands of soda makers. If you’ve lost a bottle or need extras to make larger batches of soda\, we have what you need.\nSoda Syrups – We stock over 70 different soda syrup flavors\, so you can mix up your favorite fizzy drinks at home. From classic cola and lemon-lime to exotic options like tonic and ginger ale\, our selection has something for everyone. Enjoy your favorite flavors of soda without the sugar\, preservatives\, or artificial additives of store-bought drinks.\n\nWhy Choose FizzAid?ow It Works\nOrdering from FizzAid products is quick and easy: \n\nBrowse Our Products – Take your pick from our selection of CO2 refills\, soda syrups\, spare bottles\, and accessories for SodaStream Malta and Drinkmate Malta and other soda maker brands.\nPlace Your Order – Order directly through our website with just a few clicks. Click here to go to our shop.\nFree Friday Delivery – Once your order is confirmed\, you can expect your delivery on Friday\, completely free of charge.\n\nA Better Way to Enjoy Fizz\nAt FizzAid\, we’re all about making soda-making fun\, affordable\, and hassle-free. Our free delivery service is just one way we aim to simplify your soda-making experience. Whether you’re in need of CO2 refill or looking to stock up on syrups\, we’re here to ensure you never run out of your favorite homemade sodas. \nContact us today to place your order and enjoy the convenience of FizzAid’s free delivery to your doorstep. If you have any questions or need assistance with your order\, our friendly customer service team is always ready to help. \n*please visit our Terms and Conditions page for terms and conditions of our free delivery service. We also offer a same day delivery service on all our Soda Stream Malta and Drinkmate Malta products at an extra fee. Details for the same day delivery service is also available in the Terms and Conditions section and also upon check-out when placing an order through our shop page.. \n  \n\nLet me know if you need any more tweaks or additions!
URL:https://fizzaid.com/delivery/delivery-to-central-area-4-30pm-7-15pm-7/
ATTACH;FMTTYPE=image/png:https://fizzaid.com/wp-content/uploads/2025/02/free-delivery.png
END:VEVENT
BEGIN:VEVENT
DTSTART;VALUE=DATE:20250223
DTEND;VALUE=DATE:20250224
DTSTAMP:20260425T125735
CREATED:20250204T085459Z
LAST-MODIFIED:20250204T085459Z
UID:3213-1740268800-1740355199@fizzaid.com
SUMMARY:Delivery to Southern Areas from 8am to 12noon
DESCRIPTION:Delivery to Southern locations
URL:https://fizzaid.com/delivery/delivery-to-southern-areas-from-8am-to-12noon-3/
END:VEVENT
BEGIN:VEVENT
DTSTART;VALUE=DATE:20250228
DTEND;VALUE=DATE:20250301
DTSTAMP:20260425T125735
CREATED:20250204T090011Z
LAST-MODIFIED:20250204T095329Z
UID:3230-1740700800-1740787199@fizzaid.com
SUMMARY:Delivery to Central Area 4.30pm-7.15pm
DESCRIPTION:  \nCentral Area Free Friday Delivery Service 16:30 – 19:00 for Sodastream Malta Soda Stream Malta Drinkmate Malta\nAt FizzAid\, we’re passionate about providing you with everything you need to create refreshing\, homemade soda right at home. Whether you’re looking for SodaStream Malta or any other brand of CO2 refills\, spare bottles\, accessories\, or a variety of soda syrups\, we’ve got you covered. Our mission is to make soda-making easy\, convenient\, and enjoyable for everyone. \nTo make your experience even better\, we offer a free delivery service every Friday to the central area of Malta\, ensuring that you have all your essential soda-making supplies without ever having to leave the house. \nDelivery Areas – Central Malta \nOur Delivery of  Soda Stream Malta / Drinkmate Malta products covers the central area of Malta\, including the following areas: \n\nValletta\nFloriana\nSliema\nGzira\nTa’ Xbiex\nSt Julians\nSwieqi\nPembroke\nBirkirkara\nHamrun\nMsida\nMosta\nSan Gwann\nLija\nBalzan\nAttard\nMdina\nRabat\nQormi\nSanta Venera\n\nNo matter where you’re located in these areas\, we’ll bring your FizzAid order to your doorstep on Fridays\, completely free of charge*. \nWhat We Deliver\nAt FizzAid\, we pride ourselves on offering a wide range of products to meet all your soda-making needs. Our delivery service includes: \n\nCO2 Refills – We provide CO2 refills for SodaStream Malta Drinkmate Malta and all other soda makers brands and models. Whether you’re running low on CO2 or need a top-up\, we’ve got you covered. With our free delivery service\, you can enjoy the convenience of fresh bubbles in your drinks\, without the hassle.\nSpare Bottles & Accessories – We offer spare bottles\, including official Soda Stream Malta and Drinkmate Malta bottles and accessories for all brands of soda makers. If you’ve lost a bottle or need extras to make larger batches of soda\, we have what you need.\nSoda Syrups – We stock over 70 different soda syrup flavors\, so you can mix up your favorite fizzy drinks at home. From classic cola and lemon-lime to exotic options like tonic and ginger ale\, our selection has something for everyone. Enjoy your favorite flavors of soda without the sugar\, preservatives\, or artificial additives of store-bought drinks.\n\nWhy Choose FizzAid?ow It Works\nOrdering from FizzAid products is quick and easy: \n\nBrowse Our Products – Take your pick from our selection of CO2 refills\, soda syrups\, spare bottles\, and accessories for SodaStream Malta and Drinkmate Malta and other soda maker brands.\nPlace Your Order – Order directly through our website with just a few clicks. Click here to go to our shop.\nFree Friday Delivery – Once your order is confirmed\, you can expect your delivery on Friday\, completely free of charge.\n\nA Better Way to Enjoy Fizz\nAt FizzAid\, we’re all about making soda-making fun\, affordable\, and hassle-free. Our free delivery service is just one way we aim to simplify your soda-making experience. Whether you’re in need of CO2 refill or looking to stock up on syrups\, we’re here to ensure you never run out of your favorite homemade sodas. \nContact us today to place your order and enjoy the convenience of FizzAid’s free delivery to your doorstep. If you have any questions or need assistance with your order\, our friendly customer service team is always ready to help. \n*please visit our Terms and Conditions page for terms and conditions of our free delivery service. We also offer a same day delivery service on all our Soda Stream Malta and Drinkmate Malta products at an extra fee. Details for the same day delivery service is also available in the Terms and Conditions section and also upon check-out when placing an order through our shop page.. \n  \n\nLet me know if you need any more tweaks or additions!
URL:https://fizzaid.com/delivery/delivery-of-sodastream-malta-central-area/
ATTACH;FMTTYPE=image/png:https://fizzaid.com/wp-content/uploads/2025/02/free-delivery.png
END:VEVENT
END:VCALENDAR